BEGIN:VCALENDAR
VERSION:2.0
PRODID:-//www.nhcra.org//NONSGML kigkonsult.se iCalcreator 2.30.10//
CALSCALE:GREGORIAN
METHOD:PUBLISH
UID:ec172a5b-5228-4e93-8bc4-fb31bc9b59af
X-WR-CALDESC:NHCRA Board of Directors meetings are held at 5 p.m. on the se
 cond Tuesday of each month\, unless noted differently.  These meetings are
  open to the public.
X-WR-RELCALID:be52130e107e0ceda46f310503d5d4cb
X-WR-TIMEZONE:America/New_York
BEGIN:VTIMEZONE
TZID:America/New_York
BEGIN:STANDARD
TZNAME:EST
DTSTART:20241103T020000
TZOFFSETFROM:-0400
TZOFFSETTO:-0500
RDATE:20251102T020000
END:STANDARD
BEGIN:DAYLIGHT
TZNAME:EDT
DTSTART:20240310T020000
TZOFFSETFROM:-0500
TZOFFSETTO:-0400
RDATE:20250309T020000
RDATE:20260308T020000
END:DAYLIGHT
END:VTIMEZONE
BEGIN:VEVENT
UID:20e26634-aee3-41c7-942c-2dfd09f022ed
DTSTAMP:20260421T090032Z
DESCRIPTION:NHCRA Board of Directors meetings are held at 5 p.m. on the sec
 ond Tuesday of each month\, unless noted differently.  These meetings are 
 open to the public.
DTSTART;TZID=America/New_York:20241211T170000
DTEND;TZID=America/New_York:20241211T190000
LOCATION:Meeting held remotely
SUMMARY:NHCRA Board of Directors Meeting
END:VEVENT
END:VCALENDAR
