BEGIN:VCALENDAR
VERSION:2.0
PRODID:-//www.nhcra.org//NONSGML kigkonsult.se iCalcreator 2.30.10//
CALSCALE:GREGORIAN
METHOD:PUBLISH
UID:a95a1b72-5006-4c74-85c1-685cb55b5219
X-WR-CALDESC:Alimony: the 2018 Statute and its [July] 2021 Amendment\n \nTh
 is 3-hour Zoom workshop will be given on these dates:\n          22 July (
 Thursday) @ 9 am\n          30 July (Friday) @ 11 am\n          4 August (
 Wednesday) @ 9 am\n \nCost: $95.\n \nThis workshop was approved by FMCB as
  a 3-hour hybrid (updates/skills) course.\n \nThe workshop will include a 
 section-by-section review of the 2018 alimony law and the amendment effect
 ive 9 July 2021. It will cover:\n \nWhat cases the 2018 law applies to and
  what law applies in the other cases\;\nBasic criteria for alimony and how
  that differs from the old law\;\nThe amount and duration formulas and rea
 sons to vary from them\;\nCohabitation and other reasons for termination o
 f alimony\;\nReimbursement & Social Security alimony-all new in 2018\; and
 \nImpact of the 2021 amendment.\n \nThere will be 3 practical exercises. W
 e will discuss each exercise as well as questions from attendees.\nPresent
 er: Honey Hastings\, who drafted both these bills.
X-WR-RELCALID:ccd850c3635af294153fb28f06ab9724
X-WR-TIMEZONE:America/New_York
BEGIN:VTIMEZONE
TZID:America/New_York
BEGIN:STANDARD
TZNAME:EST
DTSTART:20201101T020000
TZOFFSETFROM:-0400
TZOFFSETTO:-0500
RDATE:20211107T020000
RDATE:20221106T020000
END:STANDARD
BEGIN:DAYLIGHT
TZNAME:EDT
DTSTART:20210314T020000
TZOFFSETFROM:-0500
TZOFFSETTO:-0400
RDATE:20220313T020000
END:DAYLIGHT
END:VTIMEZONE
BEGIN:VEVENT
UID:1eef581c-c57b-46bc-9031-177018e38c88
DTSTAMP:20260422T210959Z
DESCRIPTION:Alimony: the 2018 Statute and its [July] 2021 Amendment\n \nThi
 s 3-hour Zoom workshop will be given on these dates:\n          22 July (T
 hursday) @ 9 am\n          30 July (Friday) @ 11 am\n          4 August (W
 ednesday) @ 9 am\n \nCost: $95.\n \nThis workshop was approved by FMCB as 
 a 3-hour hybrid (updates/skills) course.\n \nThe workshop will include a s
 ection-by-section review of the 2018 alimony law and the amendment effecti
 ve 9 July 2021. It will cover:\n \nWhat cases the 2018 law applies to and 
 what law applies in the other cases\;\nBasic criteria for alimony and how 
 that differs from the old law\;\nThe amount and duration formulas and reas
 ons to vary from them\;\nCohabitation and other reasons for termination of
  alimony\;\nReimbursement & Social Security alimony-all new in 2018\; and
 \nImpact of the 2021 amendment.\n \nThere will be 3 practical exercises. W
 e will discuss each exercise as well as questions from attendees.\nPresent
 er: Honey Hastings\, who drafted both these bills.
DTSTART;TZID=America/New_York:20210722T090000
DTEND;TZID=America/New_York:20210722T120000
LOCATION:3-hour Zoom workshop: To Register contact Honey Hastings (hhasting
 s@familymediationnh.com)
SUMMARY:Alimony: the 2018 Statute and it's [July] 2021 Amendment
END:VEVENT
END:VCALENDAR
